BEGIN:VCALENDAR
VERSION:2.0
PRODID:-//Feuerwehr Stierstadt - ECPv6.15.20//NONSGML v1.0//EN
CALSCALE:GREGORIAN
METHOD:PUBLISH
X-WR-CALNAME:Feuerwehr Stierstadt
X-ORIGINAL-URL:https://www.feuerwehr-stierstadt.de
X-WR-CALDESC:Veranstaltungen für Feuerwehr Stierstadt
REFRESH-INTERVAL;VALUE=DURATION:PT1H
X-Robots-Tag:noindex
X-PUBLISHED-TTL:PT1H
BEGIN:VTIMEZONE
TZID:Europe/Berlin
BEGIN:DAYLIGHT
TZOFFSETFROM:+0100
TZOFFSETTO:+0200
TZNAME:CEST
DTSTART:20250330T010000
END:DAYLIGHT
BEGIN:STANDARD
TZOFFSETFROM:+0200
TZOFFSETTO:+0100
TZNAME:CET
DTSTART:20251026T010000
END:STANDARD
BEGIN:DAYLIGHT
TZOFFSETFROM:+0100
TZOFFSETTO:+0200
TZNAME:CEST
DTSTART:20260329T010000
END:DAYLIGHT
BEGIN:STANDARD
TZOFFSETFROM:+0200
TZOFFSETTO:+0100
TZNAME:CET
DTSTART:20261025T010000
END:STANDARD
BEGIN:DAYLIGHT
TZOFFSETFROM:+0100
TZOFFSETTO:+0200
TZNAME:CEST
DTSTART:20270328T010000
END:DAYLIGHT
BEGIN:STANDARD
TZOFFSETFROM:+0200
TZOFFSETTO:+0100
TZNAME:CET
DTSTART:20271031T010000
END:STANDARD
END:VTIMEZONE
BEGIN:VEVENT
DTSTART;TZID=Europe/Berlin:20260421T173000
DTEND;TZID=Europe/Berlin:20260421T183000
DTSTAMP:20260421T132440
CREATED:20260227T094523Z
LAST-MODIFIED:20260227T094523Z
UID:5466-1776792600-1776796200@www.feuerwehr-stierstadt.de
SUMMARY:Minifeuerwehr: Übungsstunde
DESCRIPTION:
URL:https://www.feuerwehr-stierstadt.de/event/minifeuerwehr-uebungsstunde-2/
LOCATION:Gerätehaus Stierstadt\, Gartenstraße 5\, Oberursel (Taunus)\, Hessen\, 61440
CATEGORIES:Minifeuerwehr
END:VEVENT
END:VCALENDAR